BEGIN:VCALENDAR
VERSION:2.0
PRODID:-//Park Place Finance - ECPv6.15.20//NONSGML v1.0//EN
CALSCALE:GREGORIAN
METHOD:PUBLISH
X-WR-CALNAME:Park Place Finance
X-ORIGINAL-URL:https://parkplacefinance.com
X-WR-CALDESC:Events for Park Place Finance
REFRESH-INTERVAL;VALUE=DURATION:PT1H
X-Robots-Tag:noindex
X-PUBLISHED-TTL:PT1H
BEGIN:VTIMEZONE
TZID:America/Detroit
BEGIN:DAYLIGHT
TZOFFSETFROM:-0500
TZOFFSETTO:-0400
TZNAME:EDT
DTSTART:20250309T070000
END:DAYLIGHT
BEGIN:STANDARD
TZOFFSETFROM:-0400
TZOFFSETTO:-0500
TZNAME:EST
DTSTART:20251102T060000
END:STANDARD
BEGIN:DAYLIGHT
TZOFFSETFROM:-0500
TZOFFSETTO:-0400
TZNAME:EDT
DTSTART:20260308T070000
END:DAYLIGHT
BEGIN:STANDARD
TZOFFSETFROM:-0400
TZOFFSETTO:-0500
TZNAME:EST
DTSTART:20261101T060000
END:STANDARD
BEGIN:DAYLIGHT
TZOFFSETFROM:-0500
TZOFFSETTO:-0400
TZNAME:EDT
DTSTART:20270314T070000
END:DAYLIGHT
BEGIN:STANDARD
TZOFFSETFROM:-0400
TZOFFSETTO:-0500
TZNAME:EST
DTSTART:20271107T060000
END:STANDARD
END:VTIMEZONE
BEGIN:VEVENT
DTSTART;TZID=America/Detroit:20260609T080000
DTEND;TZID=America/Detroit:20260609T170000
DTSTAMP:20260419T111903
CREATED:20251118T161312Z
LAST-MODIFIED:20251120T152715Z
UID:7520-1780992000-1781024400@parkplacefinance.com
SUMMARY:Texas Mortgage RoundUp - San Antonio\, TX
DESCRIPTION:Park Place Finance is excited to be an exhibitor at the Texas Mortgage RoundUp in San Antonio\, TX! Whether you’re a broker\, lender\, or real estate investor\, our team is here to help you close more deals with flexible\, fast\, and reliable lending solutions. From renovation\, rental\, bridge\, and ground-up construction loans\, we offer streamlined processes\, competitive rates\, and dedicated support. \nBe sure to use our free discount code: PARKPLACEFREE when registering—and come meet us at our booth to see how we can help you win more business in 2026.
URL:https://parkplacefinance.com/event/texas-mortgage-roundup-san-antonio-tx/
LOCATION:Courtyard by Marriott San Antonio SeaWorld Westover Hills\, 11605 State Highway 151\, San Antonio\, TX\, 78251\, United States
ATTACH;FMTTYPE=image/png:https://parkplacefinance.com/wp-content/uploads/Screenshot-2025-11-20-091954.png
END:VEVENT
END:VCALENDAR