BEGIN:VCALENDAR
VERSION:2.0
PRODID:-//Park Place Finance - ECPv6.15.20//NONSGML v1.0//EN
CALSCALE:GREGORIAN
METHOD:PUBLISH
X-WR-CALNAME:Park Place Finance
X-ORIGINAL-URL:https://parkplacefinance.com
X-WR-CALDESC:Events for Park Place Finance
REFRESH-INTERVAL;VALUE=DURATION:PT1H
X-Robots-Tag:noindex
X-PUBLISHED-TTL:PT1H
BEGIN:VTIMEZONE
TZID:America/Detroit
BEGIN:DAYLIGHT
TZOFFSETFROM:-0500
TZOFFSETTO:-0400
TZNAME:EDT
DTSTART:20250309T070000
END:DAYLIGHT
BEGIN:STANDARD
TZOFFSETFROM:-0400
TZOFFSETTO:-0500
TZNAME:EST
DTSTART:20251102T060000
END:STANDARD
BEGIN:DAYLIGHT
TZOFFSETFROM:-0500
TZOFFSETTO:-0400
TZNAME:EDT
DTSTART:20260308T070000
END:DAYLIGHT
BEGIN:STANDARD
TZOFFSETFROM:-0400
TZOFFSETTO:-0500
TZNAME:EST
DTSTART:20261101T060000
END:STANDARD
BEGIN:DAYLIGHT
TZOFFSETFROM:-0500
TZOFFSETTO:-0400
TZNAME:EDT
DTSTART:20270314T070000
END:DAYLIGHT
BEGIN:STANDARD
TZOFFSETFROM:-0400
TZOFFSETTO:-0500
TZNAME:EST
DTSTART:20271107T060000
END:STANDARD
END:VTIMEZONE
BEGIN:VEVENT
DTSTART;TZID=America/Detroit:20260520T080000
DTEND;TZID=America/Detroit:20260520T170000
DTSTAMP:20260419T090912
CREATED:20251118T161151Z
LAST-MODIFIED:20251120T153105Z
UID:7519-1779264000-1779296400@parkplacefinance.com
SUMMARY:LeverageCon 8 - Miami\, FL
DESCRIPTION:Park Place Finance is excited to be the title sponsor at LeverageCon 7 in Miami\, FL! Whether you’re a broker\, lender\, or real estate investor\, our team is here to help you close more deals with flexible\, fast\, and reliable lending solutions. From renovation\, rental\, bridge\, and ground-up construction loans\, we offer streamlined processes\, competitive rates\, and dedicated support.
URL:https://parkplacefinance.com/event/leveragecon-8-miami-fl/
LOCATION:Hilton Miami Airport Blue Lagoon\, 5101 Blue Lagoon Drive\, Miami\, FL\, 33126\, United States
ATTACH;FMTTYPE=image/jpeg:https://parkplacefinance.com/wp-content/uploads/IMG_3195-1-1-1536x1024-1.jpg
END:VEVENT
END:VCALENDAR